BEGIN:VCALENDAR
VERSION:2.0
PRODID:-//Eventin//Event Calendar//EN
CALSCALE:GREGORIAN
METHOD:PUBLISH
BEGIN:VEVENT
UID:1681cec2d18a9aba95a8ed27322e96e6@www.gcars.com.au
SUMMARY:CLUB DAY
DESCRIPTION:Join us at the GCARS club house. Play with radios\, meet fellow
  amateurs.
LOCATION:85 Harper St. Moledinar\, QLD
DTSTAMP:20260421T142031Z
DTSTART:20260620T000000Z
DTEND:20260620T060000Z
END:VEVENT
END:VCALENDAR
