BEGIN:VCALENDAR
VERSION:2.0
PRODID:-//Eventin//Event Calendar//EN
CALSCALE:GREGORIAN
METHOD:PUBLISH
BEGIN:VEVENT
UID:10f3e5a746d4164651c0451d69e72919@www.gcars.com.au
SUMMARY:CLUB DAY
DESCRIPTION:Join us this Saturday for a fun day! Meet other amateurs\, have
  a coffee and chat!
LOCATION:GCARS Club house
DTSTAMP:20260421T142214Z
DTSTART:20260613T000000Z
DTEND:20260613T060000Z
END:VEVENT
END:VCALENDAR
