BEGIN:VCALENDAR
VERSION:2.0
PRODID:-//Eventin//Event Calendar//EN
CALSCALE:GREGORIAN
METHOD:PUBLISH
BEGIN:VEVENT
UID:481e110827f52b575fe7ec591966fc25@www.gcars.com.au
SUMMARY:CLUB DAY
DESCRIPTION:Join us this Saturday and every Saturday from 10:00 am.\nThe cl
 ub house is located at 85 Harper St. Molendinar\, QLD
LOCATION:85 Harper St Molendinar\, QLD
DTSTAMP:20260421T124431Z
DTSTART:20260606T000000Z
DTEND:20260606T060000Z
END:VEVENT
END:VCALENDAR
