BEGIN:VCALENDAR
VERSION:2.0
PRODID:-//Eventin//Event Calendar//EN
CALSCALE:GREGORIAN
METHOD:PUBLISH
BEGIN:VEVENT
UID:6bddca6fd9e8d7129bd48fa07afcb3a4@www.gcars.com.au
SUMMARY:Educational Program – Guest Speaker
DESCRIPTION:As part of our ongoing educational program\, GCARS will be host
 ing a guest speaker!\nDetails\, including ticket price\, start time and spe
 aker will be made available closer to the date!
LOCATION:GCARS Clubrooms - 85 Harper Street\, Molendinar
DTSTAMP:20260424T073507Z
DTSTART:20260508T220000Z
DTEND:20260509T070000Z
END:VEVENT
END:VCALENDAR
